BEGIN:VCALENDAR
VERSION:2.0
PRODID:-//ChamberMaster//Event Calendar 2.0//EN
METHOD:PUBLISH
X-PUBLISHED-TTL:P3D
REFRESH-INTERVAL:P3D
CALSCALE:GREGORIAN
BEGIN:VEVENT
DTSTART:20180725T220000Z
DTEND:20180726T020000Z
X-MICROSOFT-CDO-ALLDAYEVENT:FALSE
SUMMARY:Westchester Magazine’s Best of Westchester Party (No One Under 21 Admitted)
DESCRIPTION:Summer's hottest party attracts thousands and celebrates the Best of Westchester winners   the top vote getting restaurants\, shops\, services and professionals   showcased in the July issue of Westchester Magazine. No one under 21 will be admitted.
X-ALT-DESC;FMTTYPE=text/html:Summer&rsquo\;s hottest party attracts thousands and celebrates the Best of Westchester winners &ndash\; the top vote getting restaurants\, shops\, services and professionals &ndash\; showcased in the July issue of Westchester Magazine. No one under 21 will be admitted.
LOCATION:Glen Island Harbour Club
UID:e.2770.10477771
SEQUENCE:3
DTSTAMP:20260425T155349Z
URL:https://business.dcrcoc.org/events/details/westchester-magazine-s-best-of-westchester-party-no-one-under-21-admitted-10477771
END:VEVENT

END:VCALENDAR
