BEGIN:VCALENDAR
VERSION:2.0
PRODID:-//ChamberMaster//Event Calendar 2.0//EN
METHOD:PUBLISH
X-PUBLISHED-TTL:P3D
REFRESH-INTERVAL:P3D
CALSCALE:GREGORIAN
BEGIN:VEVENT
DTSTART:20180517T153000Z
DTEND:20180517T180000Z
X-MICROSOFT-CDO-ALLDAYEVENT:FALSE
SUMMARY:Westchester Magazine's Healthcare Heroes
DESCRIPTION:Join community leaders\, health care professionals and Westchester County residents as we salute our Healthcare Heroes at a special luncheon and in the May issue of Westchester Magazine
X-ALT-DESC;FMTTYPE=text/html:Join community leaders\, health care professionals and Westchester County residents as we salute our Healthcare Heroes at a special luncheon and in the May issue of Westchester Magazine
LOCATION:Mulino's at Lake Isle 660 White Plains Rd\, Eastchester\, NY 10709
UID:e.2770.10476744
SEQUENCE:3
DTSTAMP:20260425T182118Z
URL:https://business.dcrcoc.org/events/details/westchester-magazine-s-healthcare-heroes-10476744
END:VEVENT

END:VCALENDAR
