BEGIN:VCALENDAR
VERSION:2.0
PRODID:-//ChamberMaster//Event Calendar 2.0//EN
METHOD:PUBLISH
X-PUBLISHED-TTL:P3D
REFRESH-INTERVAL:P3D
CALSCALE:GREGORIAN
BEGIN:VEVENT
DTSTART:20180605T220000Z
DTEND:20180606T003000Z
X-MICROSOFT-CDO-ALLDAYEVENT:FALSE
SUMMARY:Westchester Magazine's Wine & Food Festival: Salute! A Taste of Italy
DESCRIPTION:Celebrate the regions of Italy with world-renowned wine expert\, Kevin Zraly\, during this walk-around tasting featuring the red and white wines of Tuscany\, Veneto\, Piedmonte\, Trentino-Alto Adige\, Sicily and Sardinia while enjoying fine Italian delicacies. No one under 21 will be admitted.
X-ALT-DESC;FMTTYPE=text/html:Celebrate the regions of Italy with world-renowned wine expert\, Kevin Zraly\, during this walk-around tasting featuring the red and white wines of Tuscany\, Veneto\, Piedmonte\, Trentino-Alto Adige\, Sicily and Sardinia while enjoying fine Italian delicacies. No one under 21 will be admitted.
LOCATION:Westchester Italian Cultural Center
UID:e.2770.10477769
SEQUENCE:3
DTSTAMP:20260425T171431Z
URL:https://business.dcrcoc.org/events/details/westchester-magazine-s-wine-food-festival-salute-a-taste-of-italy-10477769
END:VEVENT

END:VCALENDAR
