BEGIN:VCALENDAR
VERSION:2.0
PRODID:-//ChamberMaster//Event Calendar 2.0//EN
METHOD:PUBLISH
X-PUBLISHED-TTL:P3D
REFRESH-INTERVAL:P3D
CALSCALE:GREGORIAN
BEGIN:VEVENT
DTSTART:20180606T220000Z
DTEND:20180607T010000Z
X-MICROSOFT-CDO-ALLDAYEVENT:FALSE
SUMMARY:Westchester Magazine's Wine & Food Festival: Taste and Style at Savor Westchester
DESCRIPTION:Grab your friends and kick-off the Wine & Food Festival at Savor Westchester   a delicious new dining experience featuring exclusive eateries. Enjoy an evening of food\, shopping\, fashion & cocktails! Sample fresh and flavorful cuisine\, sip delicious cocktails and check out the season's hottest fashion trends. Makeovers\, massages\, shopping\, raffles and more make this an evening not-to-be-missed! No one under 21 will be admitted.
X-ALT-DESC;FMTTYPE=text/html:Grab your friends and kick-off the Wine &amp\; Food Festival at Savor Westchester &ndash\; a delicious new dining experience featuring exclusive eateries. Enjoy an evening of food\, shopping\, fashion &amp\; cocktails! Sample fresh and flavorful cuisine\, sip delicious cocktails and check out the season&rsquo\;s hottest fashion trends. Makeovers\, massages\, shopping\, raffles and more make this an evening not-to-be-missed! No one under 21 will be admitted.
LOCATION:Savor Westchester at the Westchester 125 Westchester Avenue\, White Plains
UID:e.2770.10477770
SEQUENCE:3
DTSTAMP:20260425T171425Z
URL:https://business.dcrcoc.org/events/details/westchester-magazine-s-wine-food-festival-taste-and-style-at-savor-westchester-10477770
END:VEVENT

END:VCALENDAR
