BEGIN:VCALENDAR
VERSION:2.0
PRODID:-//ChamberMaster//Event Calendar 2.0//EN
METHOD:PUBLISH
X-PUBLISHED-TTL:P3D
REFRESH-INTERVAL:P3D
CALSCALE:GREGORIAN
BEGIN:VEVENT
DTSTART:20180210T173000Z
DTEND:20180210T193000Z
X-MICROSOFT-CDO-ALLDAYEVENT:FALSE
SUMMARY:WFC: 80's Dance Party
DESCRIPTION:Our Open Saturday is for Workforce Connections & Youth One Stop participants.  During this Saturday\, we will have an 80's Dance Party to celebrate our goals.  Contest and Prizes for BEST DRESSED!\n\n\n\nRegistration required. For more information and to RSVP\, contact Meredith Madden of Workforce Connections at (845) 454-1700\, ext. 1002.\n\n\n\n***This event is not open to the public. Provided for Workforce Connections participants only.
X-ALT-DESC;FMTTYPE=text/html:Our Open Saturday is for Workforce Connections &amp\; Youth One Stop participants.&nbsp\; During this Saturday\, we will have an 80&#39\;s Dance Party to celebrate our goals.&nbsp\; Contest and Prizes for BEST DRESSED!<br />\n<br />\nRegistration required. For more information and to RSVP\, contact Meredith Madden of Workforce Connections&nbsp\;at (845) 454-1700\, ext. 1002.<br />\n<br />\n<span style="color: rgb(51\, 51\, 51)\; font-family: sans-serif\, Arial\, Verdana\, &quot\;Trebuchet MS&quot\;\; font-size: 13px\; background-color: rgb(255\, 255\, 255)\;">***This event is not open to the public. Provided for Workforce Connections participants only.</span>
LOCATION:Dutchess County Regional Chamber of Commerce Workforce Connections Office 1 Civic Center Plaza Poughkeepsie\, NY 12601
UID:e.2770.10476756
SEQUENCE:3
DTSTAMP:20260425T222030Z
URL:https://business.dcrcoc.org/events/details/wfc-80-s-dance-party-10476756
END:VEVENT

END:VCALENDAR
