BEGIN:VCALENDAR
VERSION:2.0
PRODID:-//ChamberMaster//Event Calendar 2.0//EN
METHOD:PUBLISH
X-PUBLISHED-TTL:P3D
REFRESH-INTERVAL:P3D
CALSCALE:GREGORIAN
BEGIN:VEVENT
DTSTART:20180407T170000Z
DTEND:20180407T183000Z
X-MICROSOFT-CDO-ALLDAYEVENT:FALSE
SUMMARY:WFC Office CLOSED. Join YOS for JOB CLUB!
DESCRIPTION:Our Open Saturday is for Workforce Connections & Youth One Stop participants.  During this Saturday\, Workforce Connections office will be closed\, but Youth One Stop will have a Job Club to assist participants with job hunting and to give and get job search support and advice.\n\n\n\nRegistration required. For more information and to RSVP\, contact Meredith Madden of Workforce Connections at (845) 454-1700\, ext. 1002.\n\n\n\n***This event is not open to the public. Provided for Workforce Connections participants only.
X-ALT-DESC;FMTTYPE=text/html:Our Open Saturday is for Workforce Connections &amp\; Youth One Stop participants.&nbsp\; During this Saturday\, Workforce Connections office will be closed\, but Youth One Stop will have a Job Club to assist participants with job hunting and to give and get job search support and advice.<br />\n<br />\nRegistration required. For more information and to RSVP\, contact Meredith Madden of Workforce Connections&nbsp\;at (845) 454-1700\, ext. 1002.<br />\n<br />\n<span style="color: rgb(51\, 51\, 51)\; font-family: sans-serif\, Arial\, Verdana\, &quot\;Trebuchet MS&quot\;\; font-size: 13px\; background-color: rgb(255\, 255\, 255)\;">***This event is not open to the public. Provided for Workforce Connections participants only.</span>
LOCATION:Dutchess County Regional Chamber of Commerce Workforce Connections Office 1 Civic Center Plaza Poughkeepsie\, NY 12601
UID:e.2770.10477181
SEQUENCE:3
DTSTAMP:20260425T195233Z
URL:https://business.dcrcoc.org/events/details/wfc-office-closed-join-yos-for-job-club-10477181
END:VEVENT

END:VCALENDAR
