BEGIN:VCALENDAR
VERSION:2.0
PRODID:-//ChamberMaster//Event Calendar 2.0//EN
METHOD:PUBLISH
X-PUBLISHED-TTL:P3D
REFRESH-INTERVAL:P3D
CALSCALE:GREGORIAN
BEGIN:VEVENT
DTSTART:20180106T170000Z
DTEND:20180106T190000Z
X-MICROSOFT-CDO-ALLDAYEVENT:FALSE
SUMMARY:WFC: Vision Boards
DESCRIPTION:During this Saturday Open Office\, designed for Workforce Connections and Youth One Stop participants\, we will learn how to envision our future and capture it on a vision board.\n\n\n\nRegistration required. For more information and to RSVP\, contact Meredith Madden\, (845) 454-1700\, ext. 1002.
X-ALT-DESC;FMTTYPE=text/html:During this Saturday Open Office\, designed for Workforce Connections and Youth One Stop participants\, we will learn how to envision our future and capture it on a vision board.<br />\n<br />\nRegistration required. For more information and to RSVP\, contact Meredith Madden\, (845) 454-1700\, ext. 1002.
LOCATION:Dutchess County Regional Chamber of Commerce Workforce Connections Office 1 Civic Center Plaza Poughkeepsie\, NY 12601
UID:e.2770.10476669
SEQUENCE:3
DTSTAMP:20260425T232141Z
URL:https://business.dcrcoc.org/events/details/wfc-vision-boards-10476669
END:VEVENT

END:VCALENDAR
