BEGIN:VCALENDAR
VERSION:2.0
PRODID:-//ChamberMaster//Event Calendar 2.0//EN
METHOD:PUBLISH
X-PUBLISHED-TTL:P3D
REFRESH-INTERVAL:P3D
CALSCALE:GREGORIAN
BEGIN:VEVENT
DTSTART:20180417T220000Z
DTEND:20180418T000000Z
X-MICROSOFT-CDO-ALLDAYEVENT:FALSE
SUMMARY:What You Need to Know to Protect Your Loved Ones' Health
DESCRIPTION:IAW Community Awareness Event Steps to Lower Medical Bills Bankruptcy   Prime Reason Multi-Payer Medicine Nightmare Made in the USA Guest Speaker - Adria Gross Adria Gross\, CEO: Patients' Health Insurance and Medical Billing AdvocateAdria Gross\, CEO and founder of MedWise Insurance Advocacy and MedWise Billing\, Inc.\, helps clients reduce medical bills\, avoid overcharges and negotiates bills down to a reasonable amount. She has over 25 years of experience in the insurance business\, working extensively with the medical community and numerous insurance companies\, and is an expert in spotting medical billing overcharges and negotiating bills down to reasonable amounts. Networking\, food\, interactive discussion\, and updates on IAW.
X-ALT-DESC;FMTTYPE=text/html:IAW Community Awareness Event Steps to Lower Medical Bills Bankruptcy &ndash\; Prime Reason Multi-Payer Medicine Nightmare Made in the USA Guest Speaker - Adria Gross Adria Gross\, CEO: Patients&rsquo\; Health Insurance and Medical Billing AdvocateAdria Gross\, CEO and founder of MedWise Insurance Advocacy and MedWise Billing\, Inc.\, helps clients reduce medical bills\, avoid overcharges and negotiates bills down to a reasonable amount. She has over 25 years of experience in the insurance business\, working extensively with the medical community and numerous insurance companies\, and is an expert in spotting medical billing overcharges and negotiating bills down to reasonable amounts. Networking\, food\, interactive discussion\, and updates on IAW.
LOCATION:Cosimo's in Middletown 620 NY-211 Middletown\, NY 10941
UID:e.2770.10477135
SEQUENCE:3
DTSTAMP:20260425T195423Z
URL:https://business.dcrcoc.org/events/details/what-you-need-to-know-to-protect-your-loved-ones-health-10477135
END:VEVENT

END:VCALENDAR
