BEGIN:VCALENDAR
VERSION:2.0
PRODID:-//ChamberMaster//Event Calendar 2.0//EN
METHOD:PUBLISH
X-PUBLISHED-TTL:P3D
REFRESH-INTERVAL:P3D
CALSCALE:GREGORIAN
BEGIN:VEVENT
DTSTART:20180428T190000Z
DTEND:20180428T203000Z
X-MICROSOFT-CDO-ALLDAYEVENT:FALSE
SUMMARY:Wine & Food Pairing 101 Class
DESCRIPTION:Don't miss out\, this is what everyone's been asking for!\n\nAdvance Registration is required\, so mark your calendars. $15/person. Last event was sold out! \n\nNever be embarrassed\, afraid\, confused or disappointed anymore. Choose your wines with confidence either for scrumptious meals at home or dining out at a restaurant.
X-ALT-DESC;FMTTYPE=text/html:<p><span style="font-size:14pt"><span style="color:rgb(0\, 0\, 0)">Don&#39\;t miss out\, this is what everyone&#39\;s been asking for!</span></span></p>\n\n<p><span style="font-size:14pt"><span style="color:rgb(0\, 0\, 0)">Advance Registration is required\, so mark your calendars.&nbsp\;<strong>$15/person</strong>. Last event was sold out!&nbsp\;</span></span><br />\n<span style="color:rgb(0\, 0\, 0)\; font-size:14pt">Never be embarrassed\, afraid\, confused or disappointed anymore. Choose your wines with confidence either for scrumptious meals at home or dining out at a restaurant.</span></p>\n
LOCATION:Marta's Vineyard: South Road Square\, 1955 South Rd.\, Poughkeepsie\, New York 12601
UID:e.2770.10477645
SEQUENCE:3
DTSTAMP:20260425T210348Z
URL:https://business.dcrcoc.org/events/details/wine-food-pairing-101-class-10477645
END:VEVENT

END:VCALENDAR
