BEGIN:VCALENDAR
VERSION:2.0
PRODID:-//ChamberMaster//Event Calendar 2.0//EN
METHOD:PUBLISH
X-PUBLISHED-TTL:P3D
REFRESH-INTERVAL:P3D
CALSCALE:GREGORIAN
BEGIN:VEVENT
DTSTART:20171111T003000Z
DTEND:20171111T043500Z
X-MICROSOFT-CDO-ALLDAYEVENT:FALSE
SUMMARY:Wins vs Losses Tour Meek Mill and Fabulous Live
DESCRIPTION:Meek Mill and Fabolous WINS -vs- LOSSES Doors Open: 7:30pm Get ready\, Po Town! Platinum recording artist MEEK MILL makes his way to Poughkeepsie\, New York this November! Tickets: VIP $165.00 includes seating area in front rows\; $65.00 general admission\; $46.75 college student discounted tickets (limited to the first 300 college students)\; $50 early bird deal (limited to the first 200 people). Tickets on sale now at the Mid-Hudson Civic Civic Center box office\, all Ticketmaster locations\, charge by phone 1-800-745-3000 or online at Ticketmaster.com.
X-ALT-DESC;FMTTYPE=text/html:Meek Mill and Fabolous WINS -vs- LOSSES Doors Open: 7:30pm Get ready\, Po Town! Platinum recording artist MEEK MILL makes his way to Poughkeepsie\, New York this November! Tickets: VIP $165.00 includes seating area in front rows\; $65.00 general admission\; $46.75 college student discounted tickets (limited to the first 300 college students)\; $50 early bird deal (limited to the first 200 people). Tickets on sale now at the Mid-Hudson Civic Civic Center box office\, all Ticketmaster locations\, charge by phone 1-800-745-3000 or online at Ticketmaster.com.
LOCATION:Mid-Hudson Civic Center 14 Civic Center Plaza Poughkeepsie\, New York 12601
UID:e.2770.10476400
SEQUENCE:3
DTSTAMP:20260426T020900Z
URL:https://business.dcrcoc.org/events/details/wins-vs-losses-tour-meek-mill-and-fabulous-live-10476400
END:VEVENT

END:VCALENDAR
