BEGIN:VCALENDAR
VERSION:2.0
PRODID:-//ChamberMaster//Event Calendar 2.0//EN
METHOD:PUBLISH
X-PUBLISHED-TTL:P3D
REFRESH-INTERVAL:P3D
CALSCALE:GREGORIAN
BEGIN:VEVENT
DTSTART:20200321T230000Z
DTEND:20200322T020000Z
X-MICROSOFT-CDO-ALLDAYEVENT:FALSE
SUMMARY:WJHS DRAMA presents Annie
DESCRIPTION:WJHS DRAMA presents Annie. Book by Thomas Meehan. Music by Charles Strouse . Lyrics by Martin Charnin\; 2018 Proud BCME District ANNIE is presented through special arrangement with Music Theatre International (MTI) All authorized performance materials are also supplied by MTI\, 423 West 55th Street\, New York\, NY 10019 Tel: (212)541-4684 Fax: (212)397-4584 www.MTISho
X-ALT-DESC;FMTTYPE=text/html:WJHS DRAMA presents Annie. Book by Thomas Meehan. Music by Charles Strouse . Lyrics by Martin Charnin\; 2018 Proud BCME District ANNIE is presented through special arrangement with Music Theatre International (MTI) All authorized performance materials are also supplied by MTI\, 423 West 55th Street\, New York\, NY 10019 Tel: (212)541-4684 Fax: (212)397-4584 www.MTISho
LOCATION:Wappingers Junior High School Anthony L. Renta Theatre 30 Major McDonald Road Wappingers\, NY 12590
UID:e.2770.10483149
SEQUENCE:3
DTSTAMP:20260422T104254Z
URL:https://business.dcrcoc.org/events/details/wjhs-drama-presents-annie-03-21-2020-10483149
END:VEVENT

END:VCALENDAR
