BEGIN:VCALENDAR
VERSION:2.0
PRODID:-//ChamberMaster//Event Calendar 2.0//EN
METHOD:PUBLISH
X-PUBLISHED-TTL:P3D
REFRESH-INTERVAL:P3D
CALSCALE:GREGORIAN
BEGIN:VEVENT
DTSTART:20200327T220000Z
DTEND:20200328T000000Z
X-MICROSOFT-CDO-ALLDAYEVENT:FALSE
SUMMARY:WJHS STEAM it Up! Bistro Night
DESCRIPTION:A FREE Community Event presented by WJHS Arts Integration. Children must be accompanied by an adult. Art Residency with The Art Effect. Arts Integration will present their 2nd documentary in a series in collaboration with the Art Effect and PUF Studios. Event highlights include Watercolor Washout\, Musical Performances\, Bucket Drumming\, Mandala Collective\, Identity Grid\, Maker Space and Sculpture Zone\, our very own Project Runway\, Food and Craft Sales. All sales and donations go directly info funding this FREE community event
X-ALT-DESC;FMTTYPE=text/html:A FREE Community Event presented by WJHS Arts Integration. Children must be accompanied by an adult. Art Residency with The Art Effect. Arts Integration will present their 2nd documentary in a series in collaboration with the Art Effect and PUF Studios. Event highlights include Watercolor Washout\, Musical Performances\, Bucket Drumming\, Mandala Collective\, Identity Grid\, Maker Space and Sculpture Zone\, our very own Project Runway\, Food and Craft Sales. All sales and donations go directly info funding this FREE community event
LOCATION:Wappingers Junior High School 30 Major McDonald Road Wappingers\, NY 12590
UID:e.2770.10483231
SEQUENCE:3
DTSTAMP:20260422T104444Z
URL:https://business.dcrcoc.org/events/details/wjhs-steam-it-up-bistro-night-03-27-2020-10483231
END:VEVENT

END:VCALENDAR
