BEGIN:VCALENDAR
VERSION:2.0
PRODID:-//ChamberMaster//Event Calendar 2.0//EN
METHOD:PUBLISH
X-PUBLISHED-TTL:P3D
REFRESH-INTERVAL:P3D
CALSCALE:GREGORIAN
BEGIN:VEVENT
DTSTART:20180517T210000Z
DTEND:20180517T230000Z
X-MICROSOFT-CDO-ALLDAYEVENT:FALSE
SUMMARY:WLA: Business Case for Diversity
DESCRIPTION:***This event is at full capacity.\n\nPlease call Nicole (845) 454-1700 ext. 1000 to be added to the waiting list.\n\n\n\nBusiness Case for Diversity: Gain the Competitive Edge\n\n\n\nJoin the Women's Leadership Alliance to hear a keynote address from the Senior Vice President of Diversity\, Inclusion and Community Engagement/Chief Diversity Officer of WMCHealth\, Mecca Santana.\n\nThere will be two breakout sessions with two different discussion topics.\n\n\n\nThe topics include: \np.p1 {margin: 0.0px 0.0px 14.0px 0.0px\; font: 15.0px Arial}\n\n\n	How Can I Make Diversity Pay Off?\n	\n	p.p1 {margin: 0.0px 0.0px 14.0px 0.0px\; font: 15.0px Arial}\n	\n	The Importance of Diversity on Boards\n	\n	p.p1 {margin: 0.0px 0.0px 14.0px 0.0px\; font: 15.0px Arial}\n	\n	Navigating the workplace for women of color\n	\n	p.p1 {margin: 0.0px 0.0px 14.0px 0.0px\; font: 15.0px Arial}\n	\n	Creating diversity and inclusion for your organization\n\n\nKeynote by Mecca Santana\n\nThe Business Case for Diversity by Sophia Bonnet Hollis\n\nImportance of Diversity on Boards by Freddimir Garcia\n\nNavigating the Workplace for Women of Color by Wendy Maragh Taylor and Melinda Martinez\n\nCreating Diversity and Inclusion For Your Organization by Lorraine Lopez-Janove\n\n \n\nSponsored By: Association of Fundraising Professionals\, Omega Women's Leadership Center\, and Rondout Savings Bank\n\n \np.p1 {margin: 0.0px 0.0px 14.0px 0.0px\; font: 15.0px Arial}\n\np.p1 {margin: 0.0px 0.0px 0.0px 0.0px\; font: 15.0px Calibri}\n\np.p1 {margin: 0.0px 0.0px 0.0px 0.0px\; font: 15.0px Calibri}\n\np.p1 {margin: 0.0px 0.0px 0.0px 0.0px\; font: 15.0px Calibri}
X-ALT-DESC;FMTTYPE=text/html:<br />\n<span style="color: rgb(255\, 0\, 0)\;"><strong><span style="font-size: 12px\;"><span style="font-size: 14px\;">***This event is at full capacity.<br />\nPlease call Nicole (845) 454-1700 ext. 1000 to be added to the waiting list.</span></span></strong></span><br />\n<br />\n<strong><span style="font-family: arial\,sans-serif\;"><span style="font-size: 11pt\;">Business Case for Diversity: Gain the Competitive Edge</span></span></strong><br />\n<br />\n<span style="font-size: 16px\;">Join the Women&#39\;s Leadership Alliance&nbsp\;to hear a keynote address from the&nbsp\;Senior Vice President of Diversity\, Inclusion and Community Engagement/Chief Diversity Officer of&nbsp\;WMCHealth\,&nbsp\;Mecca Santana.<br />\nThere will be two breakout sessions with two different discussion topics.<br />\n<br />\nThe topics include:&nbsp\;</span>\n<style type="text/css">p.p1 {margin: 0.0px 0.0px 14.0px 0.0px\; font: 15.0px Arial}\n</style>\n<ul>\n	<li class="p1"><span style="font-size: 16px\;">How Can I Make Diversity Pay Off?</span></li>\n	<li class="p1">\n	<style type="text/css">p.p1 {margin: 0.0px 0.0px 14.0px 0.0px\; font: 15.0px Arial}\n	</style>\n	<span style="font-size: 16px\;">The Importance of Diversity on Boards</span></li>\n	<li class="p1">\n	<style type="text/css">p.p1 {margin: 0.0px 0.0px 14.0px 0.0px\; font: 15.0px Arial}\n	</style>\n	<span style="font-size: 16px\;">Navigating the workplace for women of color</span></li>\n	<li class="p1">\n	<style type="text/css">p.p1 {margin: 0.0px 0.0px 14.0px 0.0px\; font: 15.0px Arial}\n	</style>\n	<span style="font-size: 16px\;">Creating diversity and inclusion for your organization</span></li>\n</ul>\n\n<div class="p1"><span style="font-size: 14px\;">Keynote by <strong>Mecca Santana</strong><br />\nThe Business Case for Diversity by<strong> Sophia Bonnet Hollis</strong><br />\nImportance of Diversity on Boards by<strong> Freddimir Garcia</strong><br />\nNavigating the Workplace for Women of Color by <strong>Wendy Maragh Taylor and Melinda Martinez</strong><br />\nCreating Diversity and Inclusion For Your Organization by <strong>Lorraine Lopez-Janove</strong></span><br />\n&nbsp\;</div>\n\n<div class="p1"><strong><span style="font-size: 16px\;"><span style="font-size: 14px\;">Sponsored By:</span>&nbsp\;</span></strong><span style="font-size: 16px\;"><span style="font-family: Calibri\;"><a href="http://afpmhv.afpnet.org/" style="font-family: Calibri\; font-size: 15px\;" target="_blank"><span style="color: rgb(0\, 0\, 255)\;">Association of Fundraising Professionals</span></a><span style="color: rgb(0\, 0\, 255)\;">\,&nbsp\;</span></span><a href="https://www.eomega.org/omega-womens-leadership-center" style="font-family: Calibri\;" target="_blank"><span style="color: rgb(0\, 0\, 255)\;">Omega Women&#39\;s Leadership Center</span></a><span style="color: rgb(0\, 0\, 255)\;"><font face="Calibri">\, and&nbsp\;</font></span><a href="https://www.rondoutbank.com/" style="font-family: Calibri\;" target="_blank"><span style="color: rgb(0\, 0\, 255)\;">Rondout&nbsp\;Savings Bank</span></a></span><br />\n&nbsp\;</div>\n<style type="text/css">p.p1 {margin: 0.0px 0.0px 14.0px 0.0px\; font: 15.0px Arial}\n</style>\n<style type="text/css">p.p1 {margin: 0.0px 0.0px 0.0px 0.0px\; font: 15.0px Calibri}\n</style>\n<style type="text/css">p.p1 {margin: 0.0px 0.0px 0.0px 0.0px\; font: 15.0px Calibri}\n</style>\n<style type="text/css">p.p1 {margin: 0.0px 0.0px 0.0px 0.0px\; font: 15.0px Calibri}\n</style>\n
LOCATION:Henry A. Wallace Visitor and Educational Center 4079 Albany Post Road Hyde Park\, NY
UID:e.2770.10476503
SEQUENCE:3
DTSTAMP:20260425T181823Z
URL:https://business.dcrcoc.org/events/details/wla-business-case-for-diversity-10476503
END:VEVENT

END:VCALENDAR
