BEGIN:VCALENDAR
VERSION:2.0
PRODID:-//ChamberMaster//Event Calendar 2.0//EN
METHOD:PUBLISH
X-PUBLISHED-TTL:P3D
REFRESH-INTERVAL:P3D
CALSCALE:GREGORIAN
BEGIN:VEVENT
DTSTART:20171110T123000Z
DTEND:20171110T140000Z
X-MICROSOFT-CDO-ALLDAYEVENT:FALSE
SUMMARY:WLA: Financial Fitness
DESCRIPTION:*** PLEASE BE AWARE: the main entrance to the parking garage will be closed on Friday.\n\nAll vehicles must enter through the Garden Street entrance into the parking garage.\n\n\n\nDesigned to help women understand and empower their financial decision-making. Maria Sciuto of Fort  Capital LLC will share worksheets and examples of how to set up financial goals\, budgets and planning. \n\n\n\nLight breakfast will be provided.\n\n\n\nSponsored by: Cindy M. Smith\, CPA
X-ALT-DESC;FMTTYPE=text/html:<br />\n<span style="font-family:times new roman\,serif\;"><span style="font-size:12.0pt\;">*** <strong>PLEASE BE AWARE</strong>: the main entrance to the parking garage will be closed on Friday.</span></span><br />\n<span style="background:yellow\;"><span style="font-family:times new roman\,serif\;"><span style="font-size:12.0pt\;">All vehicles must enter through the Garden Street entrance into the parking garage.</span></span></span><br />\n<br />\n<span style="color:#1A1A1A\;"><span style="font-family:arial\;"><span style="font-size:11.0pt\;">Designed to help women understand and empower their financial decision-making. Maria Sciuto of </span></span></span>Fort&eacute\;<span style="font-family: arial\; font-size: 14px\; font-weight: bold\;">&nbsp\;Capital LLC&nbsp\;</span><span style="color:#1A1A1A\;"><span style="font-family:arial\;"><span style="font-size:11.0pt\;">will share worksheets and examples of how to set up financial goals\, budgets and planning.&nbsp\;</span></span></span><br />\n<br />\n<font face="arial\, sans-serif"><span style="font-size: 14.6667px\;">Light breakfast will be provided.<br />\n<br />\nSponsored by: <a href="http://www.csmithcpa.com">Cindy M. Smith\, CPA</a></span></font><br />\n<br />\n<br />\n&nbsp\;
LOCATION:Chamber Offices One Civic Center Plaza Suite 400 Poughkeepsie\, NY 12601
UID:e.2770.10476254
SEQUENCE:3
DTSTAMP:20260426T020805Z
URL:https://business.dcrcoc.org/events/details/wla-financial-fitness-10476254
END:VEVENT

END:VCALENDAR
