BEGIN:VCALENDAR
VERSION:2.0
PRODID:-//ChamberMaster//Event Calendar 2.0//EN
METHOD:PUBLISH
X-PUBLISHED-TTL:P3D
REFRESH-INTERVAL:P3D
CALSCALE:GREGORIAN
BEGIN:VEVENT
DTSTART:20180213T220000Z
DTEND:20180214T000000Z
X-MICROSOFT-CDO-ALLDAYEVENT:FALSE
SUMMARY:WLA: NetGiving Reception
DESCRIPTION:The Women's Leadership Alliance NetGiving Reception focuses on offering ideas\, suggestions\, resources and/or connections to fellow attendees.\n\n\n\nSponsored by Rondout Savings Bank\n\nAfter a brief general networking session as participants wait for all guests to arrive\, attendees will gather into small groups. Each person will take a turn sharing a general or specific challenge they face or goal they would like to achieve. Then they will receive advice and suggestions from the group.\n\nThis event allows participants to help their colleagues\, follow through on help they've offered and enjoy knowing they have helped others pursue their goals and dreams.\n\nThis is a timed and structured event. Please arrive by 5:30 p.m. and plan on staying until 7 p.m.\n\nComplimentary hors d'oeuvres and cash bar available. No charge to attend.
X-ALT-DESC;FMTTYPE=text/html:<p>The Women&#39\;s Leadership Alliance NetGiving Reception focuses on offering ideas\, suggestions\, resources and/or connections to fellow attendees.<br />\n<br />\nSponsored by <a href="https://www.rondoutbank.com/" target="_blank">Rondout Savings Bank</a></p>\n\n<p>After a brief general networking session as participants wait for all guests to arrive\, attendees will gather into small groups. Each person will take a turn sharing a general or specific challenge they face or goal they would like to achieve. Then they will receive advice and suggestions from the group.</p>\n\n<p>This event allows participants to help their colleagues\, follow through on help they&#39\;ve offered and enjoy knowing they have helped others pursue their goals and dreams.</p>\n\n<p>This is a timed and structured event. Please arrive by 5:30 p.m. and plan on staying until 7 p.m.</p>\n\n<p>Complimentary hors d&#39\;oeuvres and cash bar available. No charge to attend.</p>\n
LOCATION:Poughkeepsie Ice House 1 Main Street Poughkeepsie\, NY 12601
UID:e.2770.10476500
SEQUENCE:3
DTSTAMP:20260425T221648Z
URL:https://business.dcrcoc.org/events/details/wla-netgiving-reception-10476500
END:VEVENT

END:VCALENDAR
