BEGIN:VCALENDAR
VERSION:2.0
PRODID:-//ChamberMaster//Event Calendar 2.0//EN
METHOD:PUBLISH
X-PUBLISHED-TTL:P3D
REFRESH-INTERVAL:P3D
CALSCALE:GREGORIAN
BEGIN:VEVENT
DTSTART:20190307T230000Z
DTEND:20190308T010000Z
X-MICROSOFT-CDO-ALLDAYEVENT:FALSE
SUMMARY:Women Empowering Women
DESCRIPTION:Come and meet mentors from all different backgrounds and see how you can make 2019 your best year!  Mentors include:\n\n  Melanie Richards - Increase Your Visibility\n\n  Mindy Kole - SUNY Ulster\n\n  Sandra Salguero - Superior Mortgage\; Latinos in Business\n\n  Lauree Ostrofsky - HV Women in Business\n\n  Jan Wallen - Professional Consultant \n\n \n\nThis event will be an interactive roundtable as well as an opportunity to network with like-minded women.  Topics include:\n\n  Finding the right mentor\n\n  How to create a win-win relationship\n\n  How to market yourself\n\n  Effective Networking
X-ALT-DESC;FMTTYPE=text/html:<p><span style="font-size:16px"><span style="font-family:calibri">Come and meet mentors from all different backgrounds and see how you can make 2019 your best year!&nbsp\; Mentors include:</span><br />\n<span style="color:black"><span style="font-family:symbol">&middot\;</span></span>&nbsp\;<em><span style="font-family:calibri">Melanie Richards - Increase Your Visibility</span></em><br />\n<span style="color:black"><span style="font-family:symbol">&middot\;</span></span>&nbsp\;<em><span style="font-family:calibri">Mindy Kole - SUNY Ulster</span></em><br />\n<span style="color:black"><span style="font-family:symbol">&middot\;</span></span>&nbsp\;<em><span style="font-family:calibri">Sandra Salguero - Superior Mortgage\; </span></em><em><span style="font-family:calibri">Latinos in Business</span></em><br />\n<span style="color:black"><span style="font-family:symbol">&middot\;</span></span>&nbsp\;<em><span style="font-family:calibri">Lauree Ostrofsky - HV Women in Business</span></em><br />\n<span style="color:black"><span style="font-family:symbol">&middot\;</span></span>&nbsp\;<em><span style="font-family:calibri">Jan Wallen - Professional Consultant </span></em><br />\n&nbsp\;<br />\n<span style="font-family:calibri">This event will be an interactive roundtable as well as an opportunity to network with like-minded women.&nbsp\; Topics include:</span><br />\n<span style="color:black"><span style="font-family:symbol">&middot\;</span></span>&nbsp\;<span style="font-family:calibri">Finding the right mentor</span><br />\n<span style="color:black"><span style="font-family:symbol">&middot\;</span></span>&nbsp\;<span style="font-family:calibri">How to create a win-win relationship</span><br />\n<span style="color:black"><span style="font-family:symbol">&middot\;</span></span>&nbsp\;<span style="font-family:calibri">How to market yourself</span><br />\n<span style="color:black"><span style="font-family:symbol">&middot\;</span></span>&nbsp\;<span style="font-family:calibri">Effective Networking</span></span></p>\n
LOCATION:Homewood Suites by Hilton Newburgh- Stewart Airport Hotel 180 Breunig Rd. New Windsor\, NY 12553
UID:e.2770.10479941
SEQUENCE:3
DTSTAMP:20260423T081841Z
URL:https://business.dcrcoc.org/events/details/women-empowering-women-10479941
END:VEVENT

END:VCALENDAR
