BEGIN:VCALENDAR
VERSION:2.0
PRODID:-//ChamberMaster//Event Calendar 2.0//EN
METHOD:PUBLISH
X-PUBLISHED-TTL:P3D
REFRESH-INTERVAL:P3D
CALSCALE:GREGORIAN
BEGIN:VEVENT
DTSTART:20171207T163000Z
DTEND:20171207T190000Z
X-MICROSOFT-CDO-ALLDAYEVENT:FALSE
SUMMARY:Women in Business Luncheon
DESCRIPTION:Hudson Valley Magazine hosts it's 3rd annual Women in Business Luncheon to be held conjunction with the magazine's December issue showcasing leading area businesswomen. The sit-down luncheon features a keynote speaker and recognizes the accomplishments of the women profiled in the issue.
X-ALT-DESC;FMTTYPE=text/html:Hudson Valley Magazine hosts it&#39\;s 3rd annual Women in Business Luncheon to be held conjunction with the magazine&#39\;s December issue showcasing leading area businesswomen. The sit-down luncheon features a keynote speaker and recognizes the accomplishments of the women profiled in the issue.
LOCATION:70 Widmer Rd\, Villa Borghese\, Wappinger Falls\, NY\, 12590
UID:e.2770.10474495
SEQUENCE:3
DTSTAMP:20260426T005243Z
URL:https://business.dcrcoc.org/events/details/women-in-business-luncheon-12-07-2017-10474495
END:VEVENT

END:VCALENDAR
