BEGIN:VCALENDAR
VERSION:2.0
PRODID:-//ChamberMaster//Event Calendar 2.0//EN
METHOD:PUBLISH
X-PUBLISHED-TTL:P3D
REFRESH-INTERVAL:P3D
CALSCALE:GREGORIAN
BEGIN:VEVENT
DTSTART:20180906T220000Z
DTEND:20180907T000000Z
X-MICROSOFT-CDO-ALLDAYEVENT:FALSE
SUMMARY:Women's Enterprise Development Center - Camino a la Iniciativa Empresarial
DESCRIPTION:No se pierda este taller dise ado para introducir conceptos de como ser un due o de negocios exitoso!\n\nAprenda acerca de:\n\n  Las caracter sticas de un empresario exitoso\n\n  Que se necesita hacer para abrir su propio negocio\, quienes ser n sus clientes\, su competencia\, donde conseguir permisos y licencias para su negocio\n\n  Recursos que WEDC ofrece para ayudarlo a tener  xito y mucho m s!
X-ALT-DESC;FMTTYPE=text/html:<h3><br />\n<strong><span style="font-family:calibri"><span style="font-size:18.0pt">&iexcl\;No se pierda este taller dise&ntilde\;ado para introducir conceptos de como ser un due&ntilde\;o de negocios exitoso!</span></span></strong></h3>\n\n<p><u><span style="font-family:calibri"><span style="font-size:16.0pt">Aprenda acerca de</span></span></u>:<br />\n<span style="color:black"><span style="font-size:10.0pt"><span style="font-family:symbol">&uml\;</span></span></span>&nbsp\;<span style="font-family:calibri"><span style="font-size:16.0pt">Las caracter&iacute\;sticas de un empresario exitoso</span></span><br />\n<span style="color:black"><span style="font-size:10.0pt"><span style="font-family:symbol">&uml\;</span></span></span>&nbsp\;<span style="font-family:calibri"><span style="font-size:16.0pt">Que se necesita hacer para abrir su propio negocio\, quienes ser&aacute\;n sus clientes\, su competencia\, donde conseguir permisos y licencias para su negocio</span></span><br />\n<span style="color:black"><span style="font-size:10.0pt"><span style="font-family:symbol">&uml\;</span></span></span>&nbsp\;<span style="font-family:calibri"><span style="font-size:16.0pt">Recursos que WEDC ofrece para ayudarlo a tener &eacute\;xito y mucho m&aacute\;s!</span></span><br />\n&nbsp\;<br />\n&nbsp\;</p>\n
LOCATION:Newburgh Free Library 124 Grand Street Newburgh\, NY 12550
UID:e.2770.10479300
SEQUENCE:3
DTSTAMP:20260425T131745Z
URL:https://business.dcrcoc.org/events/details/women-s-enterprise-development-center-camino-a-la-iniciativa-empresarial-10479300
END:VEVENT

END:VCALENDAR
