BEGIN:VCALENDAR
VERSION:2.0
PRODID:-//ChamberMaster//Event Calendar 2.0//EN
METHOD:PUBLISH
X-PUBLISHED-TTL:P3D
REFRESH-INTERVAL:P3D
CALSCALE:GREGORIAN
BEGIN:VEVENT
DTSTART:20180905T220000Z
DTEND:20180906T000000Z
X-MICROSOFT-CDO-ALLDAYEVENT:FALSE
SUMMARY:Women's Enterprise Development Center - Path to Entrepreneurship Program
DESCRIPTION:Do You Have What it Takes to be a Successful Entrepreneur?  Find Out Now!\n\n\n  FREE program \n\n  Introduction to small business ownership\n\n  Characteristics of a successful entrepreneur\n\n  What it takes to run your own business
X-ALT-DESC;FMTTYPE=text/html:<h3><br />\n<span style="font-size:26px"><strong><span style="font-family:calibri">Do You Have What it Takes to be a Successful Entrepreneur?&nbsp\;&nbsp\;Find Out Now!</span></strong></span></h3>\n<br />\n<span style="font-size:10.0pt"><span style="font-family:symbol">&middot\;</span></span>&nbsp\;<span style="font-family:calibri"><span style="font-size:14.0pt">FREE program </span></span><br />\n<span style="font-size:10.0pt"><span style="font-family:symbol">&middot\;</span></span>&nbsp\;<span style="font-family:calibri"><span style="font-size:14.0pt">Introduction to small business ownership</span></span><br />\n<span style="font-size:10.0pt"><span style="font-family:symbol">&middot\;</span></span>&nbsp\;<span style="font-family:calibri"><span style="font-size:14.0pt">Characteristics of a successful entrepreneur</span></span><br />\n<span style="font-size:10.0pt"><span style="font-family:symbol">&middot\;</span></span>&nbsp\;<span style="font-family:calibri"><span style="font-size:14.0pt">What it takes to run your own business</span></span><br />\n&nbsp\;
LOCATION:Newburgh Free Library 124 Grand Street - Newburgh - NY - 12550
UID:e.2770.10479298
SEQUENCE:3
DTSTAMP:20260425T131255Z
URL:https://business.dcrcoc.org/events/details/women-s-enterprise-development-center-path-to-entrepreneurship-program-10479298
END:VEVENT

END:VCALENDAR
