BEGIN:VCALENDAR
VERSION:2.0
PRODID:-//ChamberMaster//Event Calendar 2.0//EN
METHOD:PUBLISH
X-PUBLISHED-TTL:P3D
REFRESH-INTERVAL:P3D
CALSCALE:GREGORIAN
BEGIN:VEVENT
DTSTART:20181025T160000Z
DTEND:20181025T170000Z
X-MICROSOFT-CDO-ALLDAYEVENT:FALSE
SUMMARY:Women's Enterprise Development Center - Webinar: Keep Your Day Job While Starting Your Business!
DESCRIPTION:Learn to use the best available resources so you can get it right the first time! \n\n\n	What is semi-absentee ownership?\n	Assess if franchise ownership is right for you\n	How to select your optimal concept\n	Opportunities available in your area\n	Funding guidance for a quick ramp-up\n	Receive a complimentary digital copy of "More Than French Fries"
X-ALT-DESC;FMTTYPE=text/html:<p><span style="font-size:20px"><span style="font-family:arial\,helvetica\,sans-serif">Learn to use the best available resources so you can get it right the first time! </span></span></p>\n\n<ul>\n	<li><span style="font-size:20px"><span style="font-family:arial\,helvetica\,sans-serif">What is semi-absentee ownership?</span></span></li>\n	<li><span style="font-size:20px"><span style="font-family:arial\,helvetica\,sans-serif">Assess if franchise ownership is right for you</span></span></li>\n	<li><span style="font-size:20px"><span style="font-family:arial\,helvetica\,sans-serif">How to select your optimal concept</span></span></li>\n	<li><span style="font-size:20px"><span style="font-family:arial\,helvetica\,sans-serif">Opportunities available in your area</span></span></li>\n	<li><span style="font-size:20px"><span style="font-family:arial\,helvetica\,sans-serif">Funding guidance for a quick ramp-up</span></span></li>\n	<li><span style="font-size:20px"><span style="font-family:arial\,helvetica\,sans-serif">Receive a complimentary digital copy of &ldquo\;More Than French Fries&rdquo\;</span></span></li>\n</ul>\n
LOCATION:Webinar
UID:e.2770.10479703
SEQUENCE:3
DTSTAMP:20260425T115252Z
URL:https://business.dcrcoc.org/events/details/women-s-enterprise-development-center-webinar-keep-your-day-job-while-starting-your-business-10479703
END:VEVENT

END:VCALENDAR
