BEGIN:VCALENDAR
VERSION:2.0
PRODID:-//ChamberMaster//Event Calendar 2.0//EN
METHOD:PUBLISH
X-PUBLISHED-TTL:P3D
REFRESH-INTERVAL:P3D
CALSCALE:GREGORIAN
BEGIN:VEVENT
DTSTART:20180123T170000Z
DTEND:20180123T183000Z
X-MICROSOFT-CDO-ALLDAYEVENT:FALSE
SUMMARY:Women's Leadership Alliance: Crossing the Bridge
DESCRIPTION:Invitation only\, please.\n\nCollaboration Meeting with Women's Organization Leaders\n\nAs the Women's Leadership Alliance continues to develop as an organization\, we've had the pleasure of discovering a multitude of local organizations whose missions also support women\, girls and families. Many times we were surprised we hadn't crossed paths before or realized we were having events on the same dates. The goal of this gathering is to find ways to work together and learn from one another to benefit the women in our community.\n\n \n\nSponsored by: Thrivent Financial and GTM Payroll Services.\n\n\n\n*** In the event of inclement weather\, visit the Chamber's website and Facebook page by 6:30 a.m. for updates regarding events and committee meetings. The status of afternoon meetings\, ribbon cuttings and events will be posted accordingly.
X-ALT-DESC;FMTTYPE=text/html:<span style="font-family: arial\;"><span style="font-size: 14px\;"><strong>Invitation only\, please.<br />\nCollaboration Meeting with Women&rsquo\;s Organization Leaders</strong><br />\nAs the Women&rsquo\;s Leadership Alliance continues to develop as an organization\, we&rsquo\;ve had the pleasure of discovering a multitude of local organizations whose missions also support women\, girls and families. Many times we were surprised we hadn&rsquo\;t crossed paths before or realized we were having events on the same dates. The goal of this gathering is to find ways to work together and learn from one another to benefit the women in our community.</span><br />\n&nbsp\;<br />\n<span style="font-size: 14px\;">Sponsored by: <a href="https://www.thrivent.com">Thrivent Financial</a>&nbsp\;and&nbsp\;</span></span><span style="font-size: 14px\;"><a href="http://gtm.com/">GTM Payroll Services</a>.</span><br />\n<br />\n<span style="font-size: 12px\;"><strong><span style="color: red\;">*** In the event of inclement weather\, visit the <span style="color: red\;">Chamber&rsquo\;s website</span> and <span style="color: red\;">Facebook page</span> by 6:30 a.m. for updates regarding events and committee meetings. The status of afternoon meetings\, ribbon cuttings and events will be posted accordingly.</span></strong></span><br />\n<br />\n<br />\n&nbsp\;
LOCATION:Chamber Offices One Civic Center Plaza Suite 400 Poughkeepsie NY 12601
UID:e.2770.10476394
SEQUENCE:3
DTSTAMP:20260425T232525Z
URL:https://business.dcrcoc.org/events/details/women-s-leadership-alliance-crossing-the-bridge-10476394
END:VEVENT

END:VCALENDAR
