BEGIN:VCALENDAR
VERSION:2.0
PRODID:-//ChamberMaster//Event Calendar 2.0//EN
METHOD:PUBLISH
X-PUBLISHED-TTL:P3D
REFRESH-INTERVAL:P3D
CALSCALE:GREGORIAN
BEGIN:VEVENT
DTSTART:20180920T150000Z
DTEND:20180920T190000Z
X-MICROSOFT-CDO-ALLDAYEVENT:FALSE
SUMMARY:Work Local First Job Fair
DESCRIPTION:If you're looking to fill full-time\, part-time or temporary positions and believe in hiring from the local community\, the Work Local First Job Fair is for you.\n\nIf you're looking for work\, make sure to stop by and meet with some of the top employers in the region\, all of whom have positions to fill.\n\n\n\nCancellations of reservations must be made by September 14\, 2018. Any cancellations after September 14 will be billed a $50 cancellation fee. You may bring a lunch or purchase one at Market Street Grill\, located in the lobby of the hotel.\n\n\n\nJob Fair Registration Form\n\nFULL TABLES - SOLD OUT \n\nHALF TABLES AVAILABLE TO RESERVE\nSponsored by:\n\nDutchess One Stop\n\nQuES&T\n\nPoughkeepsie Galleria\n\n\n\nMedia Sponsor: Poughkeepsie Journal\n\n\n\nFor Complete Information\, Please Click Here: Job Fair 2018\n\n\n\nThank you to the City of Poughkeepsie for complimentary parking during the event in the municipal garage across the street.
X-ALT-DESC;FMTTYPE=text/html:<p><span style="font-size: 14px\;"><span style="font-family: arial\;">If you&#39\;re looking to fill full-time\, part-time or temporary positions and believe in hiring from the local community\, the Work Local First Job Fair is for you.</span></span></p>\n\n<p><span style="font-size: 14px\;"><span style="font-family: arial\;">If you&#39\;re looking for work\, make sure to stop by and meet with some of the top employers in the region\, all of whom have positions to fill.</span></span><br />\n<br />\n<b style="color: rgb(0\, 0\, 0)\; font-family: arial\; font-size: 14px\;"><span style="color: rgb(255\, 0\, 0)\;">Cancellations of reservations must be made by September 14\, 2018. Any cancellations after September 14 will be billed a $50 cancellation fee. You may bring a lunch or purchase one at Market Street Grill\, located in the lobby of the hotel.</span></b><br />\n<br />\n<span style="font-size: 18px\;"><strong><a href="https://chambermaster.blob.core.windows.net/userfiles/UserFiles/chambers/2770/File/JobFair_2018.pdf"><span style="color: rgb(0\, 128\, 0)\;">Job Fair Registration Form</span></a></strong></span><br />\nFULL TABLES - SOLD OUT&nbsp\;<br />\nHALF TABLES AVAILABLE TO RESERVE</p>\n<span style="font-size: 14px\;"><span style="font-family: arial\;"><strong>Sponsored by:</strong><br />\n<strong><a href="http://www.dutchessonestop.org" target="_blank"><span style="color: rgb(0\, 0\, 255)\;">Dutchess One Stop</span></a><br />\n<a href="http://www.qualityenv.com" target="_blank"><span style="color: rgb(0\, 0\, 255)\;">QuES&amp\;T</span></a><br />\n<a href="http://www.poughkeepsiegalleriamall.com" target="_blank"><span style="color: rgb(0\, 0\, 255)\;">Poughkeepsie Galleria</span></a><br />\n<br />\n<span style="color: rgb(0\, 0\, 0)\;">Media Sponsor:</span><span style="color: rgb(0\, 0\, 255)\;"> </span><a href="https://www.poughkeepsiejournal.com/" target="_blank"><span style="color: rgb(0\, 0\, 255)\;">Poughkeepsie Journal</span></a><br />\n<br />\n<span style="color: rgb(0\, 0\, 0)\;">For Complete Information\, Please Click Here: </span><a href="https://www.dcrcoc.org/jobfair" target="_blank"><span style="color: rgb(0\, 0\, 255)\;"><span style="font-size: 16px\;">Job Fair 2018</span></span></a></strong></span></span><br />\n<br />\n<span style="font-family: times new roman\;"><span style="font-size: 16px\;"><strong>Thank you to the City of Poughkeepsie for complimentary parking during the event in the municipal garage across the street.</strong></span></span><br />\n<br />\n&nbsp\;
LOCATION:The Poughkeepsie Grand Hotel & Conference Center 40 Civic Center Plaza Poughkeepsie\, NY 12601
UID:e.2770.10476506
SEQUENCE:3
DTSTAMP:20260425T131203Z
URL:https://business.dcrcoc.org/events/details/work-local-first-job-fair-10476506
END:VEVENT

END:VCALENDAR
