BEGIN:VCALENDAR
VERSION:2.0
PRODID:-//ChamberMaster//Event Calendar 2.0//EN
METHOD:PUBLISH
X-PUBLISHED-TTL:P3D
REFRESH-INTERVAL:P3D
CALSCALE:GREGORIAN
BEGIN:VEVENT
DTSTART:20200709T190000Z
DTEND:20200709T213000Z
X-MICROSOFT-CDO-ALLDAYEVENT:FALSE
SUMMARY:Workforce Development - Outdoor BBQ Recognition Event
DESCRIPTION:Interactive youth focused workshops where students can engage with one another in fun activities. \n\n\n\nSponsored By: Mid-Hudson Valley Federal Credit Union
X-ALT-DESC;FMTTYPE=text/html:<span style="font-family:tahoma\;"><span style="font-size:16px\;">Interactive youth focused workshops where students can engage with one another in fun activities.&nbsp\;</span></span><br />\n<br />\n<span style="font-family: tahoma\; font-size: 16px\; color: rgb(0\, 0\, 0)\;"><strong>Sponsored By:</strong></span><span style="font-family: tahoma\; font-size: 16px\;">&nbsp\;</span><strong style="font-family: tahoma\; font-size: 16px\;"><a href="https://www.mhvfcu.com/?gclid=EAIaIQobChMI8MLfrJS86gIVXwiICR3DzgnMEAAYASAAEgJEQfD_BwE" target="_blank"><span style="color: rgb(0\, 0\, 255)\;">Mid-Hudson Valley Federal Credit Union</span></a></strong>
LOCATION:
UID:e.2770.10484141
SEQUENCE:3
DTSTAMP:20260422T032233Z
URL:https://business.dcrcoc.org/events/details/workforce-development-outdoor-bbq-recognition-event-10484141
END:VEVENT

END:VCALENDAR
