BEGIN:VCALENDAR
VERSION:2.0
PRODID:-//ChamberMaster//Event Calendar 2.0//EN
METHOD:PUBLISH
X-PUBLISHED-TTL:P3D
REFRESH-INTERVAL:P3D
CALSCALE:GREGORIAN
BEGIN:VEVENT
DTSTART:20200731T180000Z
DTEND:20200731T200000Z
X-MICROSOFT-CDO-ALLDAYEVENT:FALSE
SUMMARY:Workforce Development - Technology Gadget Information Friday (TGIF)
DESCRIPTION:Technology Gadget Information Friday (TGIF) hosted by: Ashley Adorno\n\n\n\nIn house workshop that creates a space for participants to dive into the world of technology including 3D Printing\, Computer Aided Design\, and Robotics.  \n\n\n\nInterested in registering? Please contact: sbleier@dcrcoc.org\n\n\n\nSponsored By: Mid-Hudson Valley Federal Credit Union
X-ALT-DESC;FMTTYPE=text/html:<div style="margin-top:0in\;margin-right:0in\;margin-bottom:0in\;margin-bottom:.0001pt\;vertical-align:baseline\;"><span style="font-size:16px\;"><span style="font-family:tahoma\;"><strong>Technology Gadget Information Friday (TGIF) hosted by: Ashley Adorno</strong></span></span><br />\n<br />\n<span style="font-size:16px\;"><span style="font-family:tahoma\;">In house workshop that creates a space for participants to dive into the world of technology including 3D Printing\, Computer Aided Design\, and Robotics.&nbsp\;&nbsp\;</span></span><br />\n<br />\n<span style="font-family:tahoma\;"><span style="color: rgb(35\, 35\, 51)\; font-size: 18px\;">Interested in registering? Please contact:</span><span style="font-size: 18px\;"><strong><span style="color: rgb(0\, 0\, 255)\;">&nbsp\;</span></strong></span><a href="mailto:sbleier@dcrcoc.org"><span style="color: rgb(0\, 0\, 255)\;"><strong><span style="font-size: 18px\;">sbleier@dcrcoc.org</span></strong></span></a></span><br />\n<br />\n<span style="font-family: tahoma\; font-size: 16px\; color: rgb(0\, 0\, 0)\;"><strong>Sponsored By:</strong></span><span style="font-family: tahoma\; font-size: 16px\;">&nbsp\;</span><strong style="font-family: tahoma\; font-size: 16px\;"><a href="https://www.mhvfcu.com/?gclid=EAIaIQobChMI8MLfrJS86gIVXwiICR3DzgnMEAAYASAAEgJEQfD_BwE" target="_blank"><span style="color: rgb(0\, 0\, 255)\;">Mid-Hudson Valley Federal Credit Union</span></a></strong></div>\n
LOCATION:
UID:e.2770.10484154
SEQUENCE:3
DTSTAMP:20260422T032231Z
URL:https://business.dcrcoc.org/events/details/workforce-development-technology-gadget-information-friday-tgif-10484154
END:VEVENT

END:VCALENDAR
