BEGIN:VCALENDAR
VERSION:2.0
PRODID:-//ChamberMaster//Event Calendar 2.0//EN
METHOD:PUBLISH
X-PUBLISHED-TTL:P3D
REFRESH-INTERVAL:P3D
CALSCALE:GREGORIAN
BEGIN:VEVENT
DTSTART:20180110T170000Z
DTEND:20180110T180000Z
X-MICROSOFT-CDO-ALLDAYEVENT:FALSE
SUMMARY:Workshop: Exploring Your Values
DESCRIPTION:In this workshop\, designed for Workforce Connections & Youth One Stop participants\, we will learn determine your values and understand how they can help you in life.\n\n\n\nRegistration required. For more information and to RSVP\, contact Meredith Madden of Workforce Connections at (845) 454-1700\, ext. 1002.
X-ALT-DESC;FMTTYPE=text/html:In this workshop\, designed for Workforce Connections &amp\; Youth One Stop participants\, we will learn determine your values and understand how they can help you in life.<br />\n<br />\nRegistration required. For more information and to RSVP\, contact Meredith Madden of Workforce Connections&nbsp\;at (845) 454-1700\, ext. 1002.
LOCATION:Dutchess County Regional Chamber of Commerce Workforce Connections Office 1 Civic Center Plaza Poughkeepsie\, NY 12601
UID:e.2770.10476660
SEQUENCE:3
DTSTAMP:20260425T232102Z
URL:https://business.dcrcoc.org/events/details/workshop-exploring-your-values-10476660
END:VEVENT

END:VCALENDAR
