BEGIN:VCALENDAR
VERSION:2.0
PRODID:-//ChamberMaster//Event Calendar 2.0//EN
METHOD:PUBLISH
X-PUBLISHED-TTL:P3D
REFRESH-INTERVAL:P3D
CALSCALE:GREGORIAN
BEGIN:VEVENT
DTSTART:20180103T170000Z
DTEND:20180103T180000Z
X-MICROSOFT-CDO-ALLDAYEVENT:FALSE
SUMMARY:Workshop: Maslow's Hierarchy of Needs
DESCRIPTION:In this workshop\, designed for Workforce Connections & Youth One Stop participants\, we will learn about Maslow's Pursuit of Happiness and explore our motivation towards self-actualization.\n\n\n\nRegistration required. For more information and to RSVP\, contact Meredith Madden of Workforce Connections at (845) 454-1700\, ext. 1002.\n\n\n\n***This event is not open to the public. Provided for Workforce Connections participants only.
X-ALT-DESC;FMTTYPE=text/html:In this workshop\, designed for Workforce Connections &amp\; Youth One Stop participants\, we will learn about Maslow&#39\;s Pursuit of Happiness and explore our motivation towards self-actualization.<br />\n<br />\nRegistration required. For more information and to RSVP\, contact Meredith Madden of Workforce Connections&nbsp\;at (845) 454-1700\, ext. 1002.<br />\n<br />\n***This event is not open to the public. Provided for Workforce Connections participants only.
LOCATION:Dutchess County Regional Chamber of Commerce Workforce Connections Office 1 Civic Center Plaza Poughkeepsie\, NY 12601
UID:e.2770.10476659
SEQUENCE:3
DTSTAMP:20260425T232145Z
URL:https://business.dcrcoc.org/events/details/workshop-maslow-s-hierarchy-of-needs-10476659
END:VEVENT

END:VCALENDAR
