BEGIN:VCALENDAR
VERSION:2.0
PRODID:-//ChamberMaster//Event Calendar 2.0//EN
METHOD:PUBLISH
X-PUBLISHED-TTL:P3D
REFRESH-INTERVAL:P3D
CALSCALE:GREGORIAN
BEGIN:VEVENT
DTSTART:20171122T190000Z
DTEND:20171122T200000Z
X-MICROSOFT-CDO-ALLDAYEVENT:FALSE
SUMMARY:Workshop: Personal Care
DESCRIPTION:This workshop\, designed for Workforce Connections & Youth One Stop participants\, will discuss personal care\, hygiene\, and grooming and how it pertains to workplace professionalism.\n\n\n\nRegistration required. For more information and to RSVP\, contact Director of Workforce Connections\, Elizabeth Kwant at (845) 454-1700\, ext. 1013.
X-ALT-DESC;FMTTYPE=text/html:This workshop\, designed for Workforce Connections &amp\; Youth One Stop participants\, will discuss personal care\, hygiene\, and grooming and how it pertains to workplace professionalism.<br />\n<br />\nRegistration required. For more information and to RSVP\, contact Director of Workforce Connections\, Elizabeth Kwant at (845) 454-1700\, ext. 1013.
LOCATION:Dutchess County Regional Chamber of Commerce Workforce Connections Office 1 Civic Center Plaza Poughkeepsie\, NY 12601
UID:e.2770.10476530
SEQUENCE:3
DTSTAMP:20260426T020323Z
URL:https://business.dcrcoc.org/events/details/workshop-personal-care-10476530
END:VEVENT

END:VCALENDAR
