BEGIN:VCALENDAR
VERSION:2.0
PRODID:-//ChamberMaster//Event Calendar 2.0//EN
METHOD:PUBLISH
X-PUBLISHED-TTL:P3D
REFRESH-INTERVAL:P3D
CALSCALE:GREGORIAN
BEGIN:VEVENT
DTSTART:20171108T190000Z
DTEND:20171108T200000Z
X-MICROSOFT-CDO-ALLDAYEVENT:FALSE
SUMMARY:Workshop: Self-Care
DESCRIPTION:This workshop\, designed for Workforce Connections and Youth One Stop participants\, will discuss self-care\, what it is\, and why it's healthy\, important\, and necessary to your success.\n\n\n\nRegistration required. For more information and to RSVP\, contact Director of Workforce Connections Elizabeth Kwant\, (845) 454-1700\, ext. 1013.
X-ALT-DESC;FMTTYPE=text/html:This workshop\, designed for Workforce Connections and Youth One Stop participants\, will discuss self-care\, what it is\, and why it&#39\;s healthy\, important\, and necessary to your success.<br />\n<br />\nRegistration required. For more information and to RSVP\, contact Director of Workforce Connections Elizabeth Kwant\, (845) 454-1700\, ext. 1013.
LOCATION:Dutchess County Regional Chamber of Commerce Workforce Conncections Office 1 Civic Center Plaza Poughkeepsie\, NY 12601
UID:e.2770.10476415
SEQUENCE:3
DTSTAMP:20260426T020315Z
URL:https://business.dcrcoc.org/events/details/workshop-self-care-10476415
END:VEVENT

END:VCALENDAR
