BEGIN:VCALENDAR
VERSION:2.0
PRODID:-//ChamberMaster//Event Calendar 2.0//EN
METHOD:PUBLISH
X-PUBLISHED-TTL:P3D
REFRESH-INTERVAL:P3D
CALSCALE:GREGORIAN
BEGIN:VEVENT
DTSTART:20171213T190000Z
DTEND:20171213T200000Z
X-MICROSOFT-CDO-ALLDAYEVENT:FALSE
SUMMARY:Workshop: The Wellness Wheel
DESCRIPTION:This workshop\, designed for Workforce Connections and Youth One Stop participants\, will discuss how to create balance in your life by focusing on eight dimensions of wellbeing: social\, occupational\, emotional\, financial\, environmental\, spiritual\, intellectual\, and physical.\n\n\n\nRegistration required. For more information and to RSVP\, contact Meredith Madden\, (845) 454-1700\, ext. 1002.
X-ALT-DESC;FMTTYPE=text/html:This workshop\, designed for Workforce Connections and Youth One Stop participants\, will discuss how to create balance in your life by focusing on eight dimensions of wellbeing: social\, occupational\, emotional\, financial\, environmental\, spiritual\, intellectual\, and physical.<br />\n<br />\nRegistration required. For more information and to RSVP\, contact Meredith Madden\, (845) 454-1700\, ext. 1002.
LOCATION:Dutchess County Regional Chamber of Commerce Workforce Connections Office 1 Civic Center Plaza Poughkeepsie\, NY 12601
UID:e.2770.10476612
SEQUENCE:3
DTSTAMP:20260426T004810Z
URL:https://business.dcrcoc.org/events/details/workshop-the-wellness-wheel-10476612
END:VEVENT

END:VCALENDAR
