BEGIN:VCALENDAR
VERSION:2.0
PRODID:-//ChamberMaster//Event Calendar 2.0//EN
METHOD:PUBLISH
X-PUBLISHED-TTL:P3D
REFRESH-INTERVAL:P3D
CALSCALE:GREGORIAN
BEGIN:VEVENT
DTSTART:20171101T180000Z
DTEND:20171101T190000Z
X-MICROSOFT-CDO-ALLDAYEVENT:FALSE
SUMMARY:Workshop: Understanding and Recognizing Stress
DESCRIPTION:This workshop\, designed for Workforce Connections & Youth One Stop participants\, will discuss the causes\, symptoms\, and signs of stress and how they can have an effect on the workplace.\n\n\n\nRegistration required. For more information and to RSVP\, contact Director of Workforce Connections\, Elizabeth Kwant at (845) 454-1700\, ext. 1013.
X-ALT-DESC;FMTTYPE=text/html:This workshop\, designed for Workforce Connections &amp\; Youth One Stop participants\, will discuss the causes\, symptoms\, and signs of stress and how they can have an effect on the workplace.<br />\n<br />\nRegistration required. For more information and to RSVP\, contact Director of Workforce Connections\, Elizabeth Kwant at (845) 454-1700\, ext. 1013.
LOCATION:Dutchess County Regional Chamber of Commerce Workforce Connections Office 1 Civic Center Plaza Poughkeepsie\, NY 12601
UID:e.2770.10476414
SEQUENCE:3
DTSTAMP:20260426T020315Z
URL:https://business.dcrcoc.org/events/details/workshop-understanding-and-recognizing-stress-10476414
END:VEVENT

END:VCALENDAR
