BEGIN:VCALENDAR
VERSION:2.0
PRODID:-//ChamberMaster//Event Calendar 2.0//EN
METHOD:PUBLISH
X-PUBLISHED-TTL:P3D
REFRESH-INTERVAL:P3D
CALSCALE:GREGORIAN
BEGIN:VEVENT
DTSTART:20180122T000000Z
DTEND:20180122T030000Z
X-MICROSOFT-CDO-ALLDAYEVENT:FALSE
SUMMARY:WWE 205 Live Tour!
DESCRIPTION:WWE 205 Live Tour! Sunday\, January 21\, 2018 FOR THE FIRST TIME EVER THE 205 LIVE TOUR COMES TO POUGHKEEPSIE\, NY! ENZO AMORE VS. KALISTO - WWE CRUISERWEIGHT CHAMPIONSHIP MATCH WITH SPECIAL GUEST REFEREE NIA JAX - 'WOKEN' MATT HARDY VS. BRAY WYATT - SPECIAL ATTRACTION MATCH - HIDEO ITAMI VS. ARIYA DAIVARI PLUS MORE OF YOUR FAVORITE 205 LIVE SUPERSTARS INCLUDING: CEDRIC ALEXANDER THE BRIAN KENDRICK GENTLEMAN JACK GALLAGHER AKIRA TOZAWA DREW GULAK GRAN METALIK TONY NESE AND MANY MORE! *CARD IS SUBJECT TO CHANGE* Admission: $100 includes meet & greet\, $75\, $50\, $30\, $15
X-ALT-DESC;FMTTYPE=text/html:WWE 205 Live Tour! Sunday\, January 21\, 2018 FOR THE FIRST TIME EVER THE 205 LIVE TOUR COMES TO POUGHKEEPSIE\, NY! ENZO AMORE VS. KALISTO - WWE CRUISERWEIGHT CHAMPIONSHIP MATCH WITH SPECIAL GUEST REFEREE NIA JAX - &lsquo\;WOKEN&rsquo\; MATT HARDY VS. BRAY WYATT - SPECIAL ATTRACTION MATCH - HIDEO ITAMI VS. ARIYA DAIVARI PLUS MORE OF YOUR FAVORITE 205 LIVE SUPERSTARS INCLUDING: CEDRIC ALEXANDER THE BRIAN KENDRICK GENTLEMAN JACK GALLAGHER AKIRA TOZAWA DREW GULAK GRAN METALIK TONY NESE AND MANY MORE! *CARD IS SUBJECT TO CHANGE* Admission: $100 includes meet &amp\; greet\, $75\, $50\, $30\, $15
LOCATION:Mid-Hudson Civic Center 14 Civic Center Plaza Poughkeepsie\, New York 12601
UID:e.2770.10476658
SEQUENCE:3
DTSTAMP:20260425T232423Z
URL:https://business.dcrcoc.org/events/details/wwe-205-live-tour-10476658
END:VEVENT

END:VCALENDAR
