BEGIN:VCALENDAR
VERSION:2.0
PRODID:-//ChamberMaster//Event Calendar 2.0//EN
METHOD:PUBLISH
X-PUBLISHED-TTL:P3D
REFRESH-INTERVAL:P3D
CALSCALE:GREGORIAN
BEGIN:VEVENT
DTSTART:20180728T124500Z
DTEND:20180728T140000Z
X-MICROSOFT-CDO-ALLDAYEVENT:FALSE
SUMMARY:Yoga on the Farm
DESCRIPTION:Enjoy the fresh farm air for weekly Saturday morning Yoga sessions with RedTail Power Yoga. All levels are welcome and encouraged to attend. Class will take place beneath a tent on a flat space on our western hillside behind the farm store overlooking the orchard. "Sky above\, Earth below\, Peace within".\n\nTiming Check-in opens at 8:30am. Class begins promptly at 9am and continues until 10am. Please arrive no later than 8:45am to allow for check-in and to get settled in your class space. All yoga members receive free pick-your-own/festival admission on days they attend class.
X-ALT-DESC;FMTTYPE=text/html:Enjoy the fresh farm air for weekly Saturday morning Yoga sessions with RedTail Power Yoga. All levels are welcome and encouraged to attend. Class will take place beneath a tent on a flat space on our western hillside behind the farm store overlooking the orchard. &ldquo\;Sky above\, Earth below\, Peace within&rdquo\;.<br />\nTiming Check-in opens at 8:30am. Class begins promptly at 9am and continues until 10am. Please arrive no later than 8:45am to allow for check-in and to get settled in your class space. All yoga members receive free pick-your-own/festival admission on days they attend class.
LOCATION:Fishkill Farms 9 Fishkill Farms Hopewell Junction\, NY 12533
UID:e.2770.10479352
SEQUENCE:3
DTSTAMP:20260425T155031Z
URL:https://business.dcrcoc.org/events/details/yoga-on-the-farm-10479352
END:VEVENT

END:VCALENDAR
