BEGIN:VCALENDAR
VERSION:2.0
PRODID:-//ChamberMaster//Event Calendar 2.0//EN
METHOD:PUBLISH
X-PUBLISHED-TTL:P3D
REFRESH-INTERVAL:P3D
CALSCALE:GREGORIAN
BEGIN:VEVENT
DTSTART:20210225T220000Z
DTEND:20210225T230000Z
X-MICROSOFT-CDO-ALLDAYEVENT:FALSE
SUMMARY:Younger Caregiver Roundtable: Healthy Living
DESCRIPTION:A free educational program by the Alzheimer's Association Hudson Valley Chapter with information on diet\, nutrition\, exercise\, cognitive activity and social engagement. Get hands-on tools to develop a plan for healthy aging. To register\, call 800.272.3900.
X-ALT-DESC;FMTTYPE=text/html:<p>A free educational program by the Alzheimer&rsquo\;s Association Hudson Valley Chapter with information on diet\, nutrition\, exercise\, cognitive activity and social engagement. Get hands-on tools to develop a plan for healthy aging. To register\, call 800.272.3900.</p>\n
LOCATION:
UID:e.2770.10484974
SEQUENCE:3
DTSTAMP:20260421T161551Z
URL:https://business.dcrcoc.org/events/details/younger-caregiver-roundtable-healthy-living-10484974
END:VEVENT

END:VCALENDAR
