BEGIN:VCALENDAR
VERSION:2.0
PRODID:-//ChamberMaster//Event Calendar 2.0//EN
METHOD:PUBLISH
X-PUBLISHED-TTL:P3D
REFRESH-INTERVAL:P3D
CALSCALE:GREGORIAN
BEGIN:VEVENT
DTSTART:20180530T220000Z
DTEND:20180531T000000Z
X-MICROSOFT-CDO-ALLDAYEVENT:FALSE
SUMMARY:Youth Leadership Recognition Dinner
DESCRIPTION:ONLINE REGISTRATION IS NOW CLOSED\n\n\n\nPlease call 845-454-1700 ext. 1000 during business hours to register\, or leave a message. All registrations needs to be confirmed by 10 a.m.\, Wednesday\, May 30. \n\n \n\nCelebrate the Youth Leadership Class of 2018 at a special recognition dinner honoring their hard work and dedication to developing themselves as future leaders.\n\n\n\nDinner Sponsors:\n\nDCH Wappipngers Falls Toyota\n\nDutchess Community College\nProgram Sponsors:\n\nGAP\, Inc.\n\nIBM Corporation\n\nPoughkeepsie Public Library District\n\nState Farm Insurance - The Jen Dunn Agency\, Inc.
X-ALT-DESC;FMTTYPE=text/html:<p><span style="font-size: 14px\;"><span style="font-family: arial\;"><span style="color:#FF0000\;"><strong>ONLINE REGISTRATION IS NOW CLOSED<br />\n<br />\nPlease call 845-454-1700 ext. 1000 during business hours to register\, or leave a message. All registrations needs to be confirmed by 10 a.m.\, Wednesday\, May 30.&nbsp\;</strong></span><br />\n&nbsp\;<br />\nCelebrate the Youth Leadership Class of 2018 at a special recognition dinner honoring their hard work and dedication to developing themselves as future leaders.</span></span><br />\n<br />\n<strong>Dinner Sponsors</strong>:<br />\n<a href="http://www.dchwappingerstoyota.com" target="_blank"><span style="color:#0000FF\;">DCH Wappipngers Falls Toyota</span></a><br />\n<a href="http://www.sunydutchess.edu" target="_blank"><span style="color:#0000FF\;">Dutchess Community College</span></a></p>\n<strong>Program Sponsors</strong>:<br />\n<a href="https://www.gap.com/" target="_blank"><span style="color:#0000FF\;">GAP\, Inc.</span></a><br />\n<a href="http://www.ibm.com" target="_blank"><span style="color:#0000FF\;">IBM Corporation</span></a><br />\n<a href="http://www.poklib.org" target="_blank"><span style="color:#0000FF\;">Poughkeepsie Public Library District</span></a><br />\n<a href="http://www.jendunn.com" target="_blank"><span style="color:#0000FF\;">State Farm Insurance - The Jen Dunn Agency\, Inc.</span></a><br />\n&nbsp\;
LOCATION:Christos Catering 155 Wilbur Boulevard Poughkeepsie\, NY 12603
UID:e.2770.10476432
SEQUENCE:3
DTSTAMP:20260425T181742Z
URL:https://business.dcrcoc.org/events/details/youth-leadership-recognition-dinner-10476432
END:VEVENT

END:VCALENDAR
