BEGIN:VCALENDAR
VERSION:2.0
PRODID:-//ChamberMaster//Event Calendar 2.0//EN
METHOD:PUBLISH
X-PUBLISHED-TTL:P3D
REFRESH-INTERVAL:P3D
CALSCALE:GREGORIAN
BEGIN:VEVENT
DTSTART:20190529T220000Z
DTEND:20190530T000000Z
X-MICROSOFT-CDO-ALLDAYEVENT:FALSE
SUMMARY:Youth Leadership Recognition Dinner
DESCRIPTION:For reservations\, please call 845-454-1700 Ext. 1000\n\n\n\nCelebrate the Youth Leadership Class of 2019 at a special recognition dinner honoring their hard work and dedication to developing themselves as future leaders.\n\n\n\nSponsors: DCH Wappingers Falls Toyota and Poughkeepsie Galleria
X-ALT-DESC;FMTTYPE=text/html:<p><br />\n<span style="font-size: 16px\;"><span style="font-family: times new roman\;"><span style="font-size: 18px\;"><span style="color: rgb(0\, 0\, 255)\;"><strong>For reservations\, please call 845-454-1700 Ext. 1000</strong></span></span><br />\n<br />\nCelebrate the Youth Leadership Class of 2019 at a special recognition dinner honoring their hard work and dedication to developing themselves as future leaders.<br />\n<br />\n<strong>Sponsors</strong>: <strong><a href="https://www.dchwappingerstoyota.com/" target="_blank"><span style="color: rgb(0\, 0\, 255)\;">DCH Wappingers Falls Toyota</span></a> </strong>and <strong><a href="https://www.poughkeepsiegalleriamall.com/" target="_blank"><span style="color: rgb(0\, 0\, 255)\;">Poughkeepsie Galleria</span></a></strong></span></span></p>\n
LOCATION:Villa Borghese 70 Widmer Road Wappingers Falls
UID:e.2770.10479876
SEQUENCE:3
DTSTAMP:20260423T045018Z
URL:https://business.dcrcoc.org/events/details/youth-leadership-recognition-dinner-10479876
END:VEVENT

END:VCALENDAR
