BEGIN:VCALENDAR
VERSION:2.0
PRODID:-//ChamberMaster//Event Calendar 2.0//EN
METHOD:PUBLISH
X-PUBLISHED-TTL:P3D
REFRESH-INTERVAL:P3D
CALSCALE:GREGORIAN
BEGIN:VEVENT
DTSTART:20180317T140000Z
DTEND:20180317T160000Z
X-MICROSOFT-CDO-ALLDAYEVENT:FALSE
SUMMARY:Zumba For A Cause
DESCRIPTION:Join us for a family-friendly morning of fun! Certified Zumba instructors will lead us through a morning of movement\, dance\, and lots of laughs
X-ALT-DESC;FMTTYPE=text/html:<h2 style="font-style: italic\;">Join us for a family-friendly morning of fun! Certified Zumba instructors will lead us through a morning of movement\, dance\, and lots of laughs</h2>\n
LOCATION:HRRA Boathouse 272 N. Water Street Poughkeepsie\, NY\, 12601
UID:e.2770.10476736
SEQUENCE:3
DTSTAMP:20260425T210347Z
URL:https://business.dcrcoc.org/events/details/zumba-for-a-cause-10476736
END:VEVENT

END:VCALENDAR
